BEGIN:VCALENDAR
VERSION:2.0
PRODID:-//Hamilton Heights Christian Academy - ECPv6.15.18//NONSGML v1.0//EN
CALSCALE:GREGORIAN
METHOD:PUBLISH
X-WR-CALNAME:Hamilton Heights Christian Academy
X-ORIGINAL-URL:https://hamiltonheights.net
X-WR-CALDESC:Events for Hamilton Heights Christian Academy
REFRESH-INTERVAL;VALUE=DURATION:PT1H
X-Robots-Tag:noindex
X-PUBLISHED-TTL:PT1H
BEGIN:VTIMEZONE
TZID:America/Kentucky/Louisville
BEGIN:DAYLIGHT
TZOFFSETFROM:-0500
TZOFFSETTO:-0400
TZNAME:EDT
DTSTART:20200308T070000
END:DAYLIGHT
BEGIN:STANDARD
TZOFFSETFROM:-0400
TZOFFSETTO:-0500
TZNAME:EST
DTSTART:20201101T060000
END:STANDARD
BEGIN:DAYLIGHT
TZOFFSETFROM:-0500
TZOFFSETTO:-0400
TZNAME:EDT
DTSTART:20210314T070000
END:DAYLIGHT
BEGIN:STANDARD
TZOFFSETFROM:-0400
TZOFFSETTO:-0500
TZNAME:EST
DTSTART:20211107T060000
END:STANDARD
BEGIN:DAYLIGHT
TZOFFSETFROM:-0500
TZOFFSETTO:-0400
TZNAME:EDT
DTSTART:20220313T070000
END:DAYLIGHT
BEGIN:STANDARD
TZOFFSETFROM:-0400
TZOFFSETTO:-0500
TZNAME:EST
DTSTART:20221106T060000
END:STANDARD
BEGIN:DAYLIGHT
TZOFFSETFROM:-0500
TZOFFSETTO:-0400
TZNAME:EDT
DTSTART:20230312T070000
END:DAYLIGHT
BEGIN:STANDARD
TZOFFSETFROM:-0400
TZOFFSETTO:-0500
TZNAME:EST
DTSTART:20231105T060000
END:STANDARD
END:VTIMEZONE
BEGIN:VEVENT
DTSTART;TZID=America/Kentucky/Louisville:20211220T000000
DTEND;TZID=America/Kentucky/Louisville:20220105T000000
DTSTAMP:20260425T080655
CREATED:20210512T000007Z
LAST-MODIFIED:20210512T213252Z
UID:7351-1639958400-1641340800@hamiltonheights.net
SUMMARY:Winter Break (Holiday)
DESCRIPTION:NO SCHOOL
URL:https://hamiltonheights.net/event/winter-break-holiday/
CATEGORIES:Academic Events
END:VEVENT
BEGIN:VEVENT
DTSTART;TZID=America/Kentucky/Louisville:20211217T000000
DTEND;TZID=America/Kentucky/Louisville:20211217T000000
DTSTAMP:20260425T080655
CREATED:20210512T000006Z
LAST-MODIFIED:20210512T213252Z
UID:7350-1639699200-1639699200@hamiltonheights.net
SUMMARY:Half Day For Students - End of 2nd Quarter (42 days)
DESCRIPTION:
URL:https://hamiltonheights.net/event/half-day-for-students-end-of-2nd-quarter-42-days/
CATEGORIES:Academic Events
END:VEVENT
BEGIN:VEVENT
DTSTART;TZID=America/Kentucky/Louisville:20211215T000000
DTEND;TZID=America/Kentucky/Louisville:20211216T000000
DTSTAMP:20260425T080655
CREATED:20210512T000006Z
LAST-MODIFIED:20210512T213345Z
UID:7349-1639526400-1639612800@hamiltonheights.net
SUMMARY:Semester Exams
DESCRIPTION:
URL:https://hamiltonheights.net/event/semester-exams/
CATEGORIES:Academic Events
END:VEVENT
BEGIN:VEVENT
DTSTART;TZID=America/Kentucky/Louisville:20211214T000000
DTEND;TZID=America/Kentucky/Louisville:20211214T000000
DTSTAMP:20260425T080655
CREATED:20210511T235954Z
LAST-MODIFIED:20210512T213345Z
UID:7348-1639440000-1639440000@hamiltonheights.net
SUMMARY:Semester Exams Review Day
DESCRIPTION:
URL:https://hamiltonheights.net/event/semester-exams-review-day/
CATEGORIES:Academic Events
END:VEVENT
BEGIN:VEVENT
DTSTART;TZID=America/Kentucky/Louisville:20211124T000000
DTEND;TZID=America/Kentucky/Louisville:20211126T000000
DTSTAMP:20260425T080655
CREATED:20210511T235954Z
LAST-MODIFIED:20210512T213345Z
UID:7347-1637712000-1637884800@hamiltonheights.net
SUMMARY:Thanksgiving Holiday
DESCRIPTION:NO SCHOOL
URL:https://hamiltonheights.net/event/thanksgiving-holiday/
CATEGORIES:Academic Events
END:VEVENT
BEGIN:VEVENT
DTSTART;TZID=America/Kentucky/Louisville:20211123T000000
DTEND;TZID=America/Kentucky/Louisville:20211123T000000
DTSTAMP:20260425T080655
CREATED:20210511T235954Z
LAST-MODIFIED:20210512T213345Z
UID:7346-1637625600-1637625600@hamiltonheights.net
SUMMARY:Progress Reports Go Home
DESCRIPTION:
URL:https://hamiltonheights.net/event/progress-reports-go-home/
CATEGORIES:Academic Events
END:VEVENT
BEGIN:VEVENT
DTSTART;TZID=America/Kentucky/Louisville:20211029T000000
DTEND;TZID=America/Kentucky/Louisville:20211029T000000
DTSTAMP:20260425T080655
CREATED:20210511T235954Z
LAST-MODIFIED:20210512T213345Z
UID:7345-1635465600-1635465600@hamiltonheights.net
SUMMARY:Half Day- Parent/Teacher Conferences
DESCRIPTION:
URL:https://hamiltonheights.net/event/half-day-parent-teacher-conferences/
CATEGORIES:Academic Events
END:VEVENT
BEGIN:VEVENT
DTSTART;TZID=America/Kentucky/Louisville:20211022T000000
DTEND;TZID=America/Kentucky/Louisville:20211022T000000
DTSTAMP:20260425T080655
CREATED:20210511T235951Z
LAST-MODIFIED:20210512T213345Z
UID:7344-1634860800-1634860800@hamiltonheights.net
SUMMARY:Report Cards Go Home
DESCRIPTION:
URL:https://hamiltonheights.net/event/report-cards-go-home/
CATEGORIES:Academic Events
END:VEVENT
BEGIN:VEVENT
DTSTART;TZID=America/Kentucky/Louisville:20211019T000000
DTEND;TZID=America/Kentucky/Louisville:20211019T000000
DTSTAMP:20260425T080655
CREATED:20210511T235855Z
LAST-MODIFIED:20210512T213345Z
UID:7343-1634601600-1634601600@hamiltonheights.net
SUMMARY:Second Quarter Begins
DESCRIPTION:
URL:https://hamiltonheights.net/event/second-quarter-begins-3/
CATEGORIES:Academic Events
END:VEVENT
BEGIN:VEVENT
DTSTART;TZID=America/Kentucky/Louisville:20211018T000000
DTEND;TZID=America/Kentucky/Louisville:20211018T000000
DTSTAMP:20260425T080655
CREATED:20210511T235854Z
LAST-MODIFIED:20210512T213346Z
UID:7342-1634515200-1634515200@hamiltonheights.net
SUMMARY:Teacher Professional Development #2
DESCRIPTION:NO STUDENTS
URL:https://hamiltonheights.net/event/teacher-professional-development-2-3/
CATEGORIES:Academic Events
END:VEVENT
BEGIN:VEVENT
DTSTART;TZID=America/Kentucky/Louisville:20211011T000000
DTEND;TZID=America/Kentucky/Louisville:20211015T000000
DTSTAMP:20260425T080655
CREATED:20210511T235854Z
LAST-MODIFIED:20210512T213346Z
UID:7341-1633910400-1634256000@hamiltonheights.net
SUMMARY:Fall Break (Holiday)
DESCRIPTION:NO SCHOOL
URL:https://hamiltonheights.net/event/fall-break-holiday-4/
CATEGORIES:Academic Events
END:VEVENT
BEGIN:VEVENT
DTSTART;TZID=America/Kentucky/Louisville:20211008T000000
DTEND;TZID=America/Kentucky/Louisville:20211008T000000
DTSTAMP:20260425T080655
CREATED:20210511T235854Z
LAST-MODIFIED:20210512T213346Z
UID:7340-1633651200-1633651200@hamiltonheights.net
SUMMARY:End of 1st Quarter (42 days)
DESCRIPTION:
URL:https://hamiltonheights.net/event/end-of-1st-quarter-42-days-4/
CATEGORIES:Academic Events
END:VEVENT
BEGIN:VEVENT
DTSTART;TZID=America/Kentucky/Louisville:20210923T000000
DTEND;TZID=America/Kentucky/Louisville:20210923T000000
DTSTAMP:20260425T080655
CREATED:20210511T235854Z
LAST-MODIFIED:20210512T213346Z
UID:7339-1632355200-1632355200@hamiltonheights.net
SUMMARY:Progress Reports Go Home
DESCRIPTION:
URL:https://hamiltonheights.net/event/progress-reports-go-home-8/
CATEGORIES:Academic Events
END:VEVENT
BEGIN:VEVENT
DTSTART;TZID=America/Kentucky/Louisville:20210906T000000
DTEND;TZID=America/Kentucky/Louisville:20210906T000000
DTSTAMP:20260425T080655
CREATED:20210511T235848Z
LAST-MODIFIED:20210512T213346Z
UID:7338-1630886400-1630886400@hamiltonheights.net
SUMMARY:Labor Day (Holiday)
DESCRIPTION:NO SCHOOL
URL:https://hamiltonheights.net/event/labor-day-holiday-4/
CATEGORIES:Academic Events
END:VEVENT
BEGIN:VEVENT
DTSTART;TZID=America/Kentucky/Louisville:20210812T000000
DTEND;TZID=America/Kentucky/Louisville:20210812T000000
DTSTAMP:20260425T080655
CREATED:20210511T235848Z
LAST-MODIFIED:20210512T213346Z
UID:7337-1628726400-1628726400@hamiltonheights.net
SUMMARY:First Full Day of School
DESCRIPTION:
URL:https://hamiltonheights.net/event/first-full-day-of-school-3/
CATEGORIES:Academic Events
END:VEVENT
BEGIN:VEVENT
DTSTART;TZID=America/Kentucky/Louisville:20210811T000000
DTEND;TZID=America/Kentucky/Louisville:20210811T000000
DTSTAMP:20260425T080655
CREATED:20210511T235847Z
LAST-MODIFIED:20210512T213346Z
UID:7335-1628640000-1628640000@hamiltonheights.net
SUMMARY:Teacher Professional Development #1
DESCRIPTION:NO STUDENTS
URL:https://hamiltonheights.net/event/teacher-professional-development-1-3/
CATEGORIES:Academic Events
END:VEVENT
BEGIN:VEVENT
DTSTART;TZID=America/Kentucky/Louisville:20210811T000000
DTEND;TZID=America/Kentucky/Louisville:20210811T000000
DTSTAMP:20260425T080655
CREATED:20210511T235847Z
LAST-MODIFIED:20210512T213346Z
UID:7336-1628640000-1628640000@hamiltonheights.net
SUMMARY:Open House 6:30- 8:00 P.M.
DESCRIPTION:
URL:https://hamiltonheights.net/event/open-house-630-800-p-m-3/
CATEGORIES:Academic Events
END:VEVENT
BEGIN:VEVENT
DTSTART;TZID=America/Kentucky/Louisville:20210809T000000
DTEND;TZID=America/Kentucky/Louisville:20210810T000000
DTSTAMP:20260425T080655
CREATED:20210511T235846Z
LAST-MODIFIED:20210512T213347Z
UID:7334-1628467200-1628553600@hamiltonheights.net
SUMMARY:Administrative In-Service #1 & 2
DESCRIPTION:NO STUDENTS
URL:https://hamiltonheights.net/event/administrative-in-service-1-2-3/
CATEGORIES:Academic Events
END:VEVENT
END:VCALENDAR